BEGIN:VCALENDAR
VERSION:2.0
PRODID:icalendar-ruby
CALSCALE:GREGORIAN
METHOD:PUBLISH
BEGIN:VEVENT
DTSTAMP:20260425T140025Z
UID:18-375945@bethelbaptistgraham.org
DTSTART:20260502T130000Z
DTEND:20260502T150000Z
CLASS:PUBLIC
CREATED:20260424T234208
DESCRIPTION:Join us for breakfast\, fellowship and word from God\, meeting 
 in the Old Fellowship Hall from 9-11am.
LAST-MODIFIED:20260424T234208
LOCATION:238 Dixon Rd. Graham\, NC 27253
SUMMARY:Men's Fellowship
URL;VALUE=URI:https://bethelbaptistgraham.org/events/mens-fellowship/2026-0
 5-02
ATTACH;FILENAME=Men%27s-Fellowship.png;FMTTYPE=image/png:https://dq5pwpg1q8
 ru0.cloudfront.net/2025/05/08/16/31/02/5f84ce4f-9c75-489f-97d8-4351e0a67cb
 b/Men%2527s-Fellowship.png
END:VEVENT
END:VCALENDAR
