BEGIN:VCALENDAR
VERSION:2.0
PRODID:icalendar-ruby
CALSCALE:GREGORIAN
METHOD:PUBLISH
BEGIN:VEVENT
DTSTAMP:20260419T193954Z
UID:94-358322@bethelbaptistgraham.org
DTSTART:20260420T230000Z
DTEND:20260421T000000Z
CLASS:PUBLIC
CREATED:20260414T161447
DESCRIPTION:Join Us for Revival\nPastor Ray McCormick\nApril 20th-22nd 7PM
LAST-MODIFIED:20260414T161447
LOCATION:238 Dixon Rd. Graham\, NC 27253
SUMMARY:Revival with Pastor Ray McCormick
URL;VALUE=URI:https://bethelbaptistgraham.org/events/revival-with-pastor-ra
 y-mccormick--94/2026-04-20
ATTACH;FILENAME=Revival.png;FMTTYPE=image/png:https://dq5pwpg1q8ru0.cloudfr
 ont.net/2026/04/14/20/14/04/2063a1fc-46d1-4b13-a621-304146287210/Revival.p
 ng
END:VEVENT
END:VCALENDAR
