BEGIN:VCALENDAR
VERSION:2.0
PRODID:icalendar-ruby
CALSCALE:GREGORIAN
METHOD:PUBLISH
BEGIN:VEVENT
DTSTAMP:20260420T075916Z
UID:95-358325@bethelbaptistgraham.org
DTSTART:20260421T230000Z
DTEND:20260422T000000Z
CLASS:PUBLIC
CREATED:20260414T161705
DESCRIPTION:Join Us for Revival\nPastor Ray McCormick\nApril 20th-22nd 7PM
LAST-MODIFIED:20260414T161705
LOCATION:238 Dixon Rd. Graham\, NC 27253
SUMMARY:Revival with Pastor Ray McCormick
URL;VALUE=URI:https://bethelbaptistgraham.org/events/revival-with-pastor-ra
 y-mccormick--95/2026-04-21
ATTACH;FILENAME=Revival.png;FMTTYPE=image/png:https://dq5pwpg1q8ru0.cloudfr
 ont.net/2026/04/14/20/17/04/0f85e439-541e-4851-b96a-15b459131804/Revival.p
 ng
END:VEVENT
END:VCALENDAR
