BEGIN:VCALENDAR
VERSION:2.0
PRODID:icalendar-ruby
CALSCALE:GREGORIAN
METHOD:PUBLISH
BEGIN:VEVENT
DTSTAMP:20260420T075142Z
UID:96-358326@bethelbaptistgraham.org
DTSTART:20260422T230000Z
DTEND:20260423T000000Z
CLASS:PUBLIC
CREATED:20260414T161859
DESCRIPTION:Join Us for Revival\nPastor Ray McCormick\nApril 19th 10:30am &
 amp\; 5:00pm\nApril 20th-22nd 7PM
LAST-MODIFIED:20260414T161859
LOCATION:238 Dixon Rd. Graham\, NC 27253
SUMMARY:Revival with Pastor Ray McCormick
URL;VALUE=URI:https://bethelbaptistgraham.org/events/revival-with-pastor-ra
 y-mccormick--96/2026-04-22
ATTACH;FILENAME=Revival.png;FMTTYPE=image/png:https://dq5pwpg1q8ru0.cloudfr
 ont.net/2026/04/14/20/18/59/e506ebe2-48c4-4080-9f68-64cf43f970f9/Revival.p
 ng
END:VEVENT
END:VCALENDAR
